BEGIN:VCALENDAR
VERSION:2.0
PRODID:-//Les Amis du Patrimoine de Trégunc - ECPv6.15.20//NONSGML v1.0//EN
CALSCALE:GREGORIAN
METHOD:PUBLISH
X-ORIGINAL-URL:https://patrimoinetregunc.fr
X-WR-CALDESC:Évènements pour Les Amis du Patrimoine de Trégunc
REFRESH-INTERVAL;VALUE=DURATION:PT1H
X-Robots-Tag:noindex
X-PUBLISHED-TTL:PT1H
BEGIN:VTIMEZONE
TZID:Europe/Paris
BEGIN:DAYLIGHT
TZOFFSETFROM:+0100
TZOFFSETTO:+0200
TZNAME:CEST
DTSTART:20240331T010000
END:DAYLIGHT
BEGIN:STANDARD
TZOFFSETFROM:+0200
TZOFFSETTO:+0100
TZNAME:CET
DTSTART:20241027T010000
END:STANDARD
BEGIN:DAYLIGHT
TZOFFSETFROM:+0100
TZOFFSETTO:+0200
TZNAME:CEST
DTSTART:20250330T010000
END:DAYLIGHT
BEGIN:STANDARD
TZOFFSETFROM:+0200
TZOFFSETTO:+0100
TZNAME:CET
DTSTART:20251026T010000
END:STANDARD
BEGIN:DAYLIGHT
TZOFFSETFROM:+0100
TZOFFSETTO:+0200
TZNAME:CEST
DTSTART:20260329T010000
END:DAYLIGHT
BEGIN:STANDARD
TZOFFSETFROM:+0200
TZOFFSETTO:+0100
TZNAME:CET
DTSTART:20261025T010000
END:STANDARD
END:VTIMEZONE
BEGIN:VEVENT
DTSTART;TZID=Europe/Paris:20251115T093000
DTEND;TZID=Europe/Paris:20251115T120000
DTSTAMP:20260419T162704
CREATED:20250922T094443Z
LAST-MODIFIED:20251204T152530Z
UID:12042-1763199000-1763208000@patrimoinetregunc.fr
SUMMARY:Assemblée générale
DESCRIPTION:
URL:https://patrimoinetregunc.fr/agenda/assemblee-generale/
LOCATION:Espace Terre-Marine\, rue de Kerambourg\, Trégunc\, 29910\, France
END:VEVENT
END:VCALENDAR