BEGIN:VCALENDAR
VERSION:2.0
PRODID:-//Les Amis du Patrimoine de Trégunc - ECPv6.15.20//NONSGML v1.0//EN
CALSCALE:GREGORIAN
METHOD:PUBLISH
X-WR-CALNAME:Les Amis du Patrimoine de Trégunc
X-ORIGINAL-URL:https://patrimoinetregunc.fr
X-WR-CALDESC:Évènements pour Les Amis du Patrimoine de Trégunc
REFRESH-INTERVAL;VALUE=DURATION:PT1H
X-Robots-Tag:noindex
X-PUBLISHED-TTL:PT1H
BEGIN:VTIMEZONE
TZID:UTC
BEGIN:STANDARD
TZOFFSETFROM:+0000
TZOFFSETTO:+0000
TZNAME:UTC
DTSTART:20240101T000000
END:STANDARD
END:VTIMEZONE
BEGIN:VEVENT
DTSTART;TZID=UTC:20251004T100000
DTEND;TZID=UTC:20251004T120000
DTSTAMP:20260421T150519
CREATED:20250904T060502Z
LAST-MODIFIED:20250911T164719Z
UID:8344-1759572000-1759579200@patrimoinetregunc.fr
SUMMARY:Permanence
DESCRIPTION:
URL:https://patrimoinetregunc.fr/agenda/permanence-3/
LOCATION:Local\, 43 rue de Pont-Aven\, Trégunc\, 29910\, France
END:VEVENT
END:VCALENDAR