BEGIN:VCALENDAR
VERSION:2.0
PRODID:-//Les Amis du Patrimoine de Trégunc - ECPv6.15.20//NONSGML v1.0//EN
CALSCALE:GREGORIAN
METHOD:PUBLISH
X-WR-CALNAME:Les Amis du Patrimoine de Trégunc
X-ORIGINAL-URL:https://patrimoinetregunc.fr
X-WR-CALDESC:Évènements pour Les Amis du Patrimoine de Trégunc
REFRESH-INTERVAL;VALUE=DURATION:PT1H
X-Robots-Tag:noindex
X-PUBLISHED-TTL:PT1H
BEGIN:VTIMEZONE
TZID:UTC
BEGIN:STANDARD
TZOFFSETFROM:+0000
TZOFFSETTO:+0000
TZNAME:UTC
DTSTART:20240101T000000
END:STANDARD
END:VTIMEZONE
BEGIN:VEVENT
DTSTART;VALUE=DATE:20250901
DTEND;VALUE=DATE:20251002
DTSTAMP:20260419T191950
CREATED:20250727T174125Z
LAST-MODIFIED:20250727T174125Z
UID:11273-1756684800-1759363199@patrimoinetregunc.fr
SUMMARY:Septembre 1930\, la tempête
DESCRIPTION:Exposition
URL:https://patrimoinetregunc.fr/agenda/septembre-1930-la-tempete/
END:VEVENT
BEGIN:VEVENT
DTSTART;VALUE=DATE:20250920
DTEND;VALUE=DATE:20250922
DTSTAMP:20260419T191950
CREATED:20250719T063857Z
LAST-MODIFIED:20250911T172947Z
UID:11210-1758326400-1758499199@patrimoinetregunc.fr
SUMMARY:Journées européennes du patrimoine
DESCRIPTION:Thème de l’édition 2025 : « Patrimoine architectural »\nEn 2025\, les Journées européennes du patrimoine se tiendront les 19\, 20 et 21 septembre. Le patrimoine architectural français sera à l’honneur lors de cette 42e édition.\nMinistère de la Culture \nActivités proposées par les Amis du patrimoine de Trégunc\nSamedi 20 septembre et dimanche 21 septembre 2025\n15h-17h : présentation du menhir de Kerangallou sur le site de Beg Rous Vorc’h \n\nDimanche 21 septembre 2025 à 10h \, 10h30\, 11h et 11h30\nPetite histoire de la Pointe de Trévignon et du port \nLe programme complet sur  le site de la mairie de Trégunc
URL:https://patrimoinetregunc.fr/agenda/journees-europeennes-du-patrimoine/
END:VEVENT
END:VCALENDAR